BEGIN:VCALENDAR
VERSION:2.0
PRODID:-//Executive Lane, Inc - ECPv6.15.13//NONSGML v1.0//EN
CALSCALE:GREGORIAN
METHOD:PUBLISH
X-WR-CALNAME:Executive Lane, Inc
X-ORIGINAL-URL:http://processinglane.com
X-WR-CALDESC:Events for Executive Lane, Inc
REFRESH-INTERVAL;VALUE=DURATION:PT1H
X-Robots-Tag:noindex
X-PUBLISHED-TTL:PT1H
BEGIN:VTIMEZONE
TZID:UTC
BEGIN:STANDARD
TZOFFSETFROM:+0000
TZOFFSETTO:+0000
TZNAME:UTC
DTSTART:20150101T000000
END:STANDARD
END:VTIMEZONE
BEGIN:VEVENT
DTSTART;VALUE=DATE:20160911
DTEND;VALUE=DATE:20160915
DTSTAMP:20260423T213136
CREATED:20160701T042021Z
LAST-MODIFIED:20160905T104429Z
UID:1065-1473552000-1473897599@processinglane.com
SUMMARY:XBIZ | Berlin
DESCRIPTION:
URL:http://processinglane.com/event/xbiz-berlin/
LOCATION:Catalonia Berlin Mitte\, Köpenicker Strasse 80-82\,  Berlin\, 10179\, Germany
CATEGORIES:affiliates,conference,merchant services,webmasters
ATTACH;FMTTYPE=image/jpeg:http://processinglane.com/wp-content/uploads/2016/08/XBIZ_Berlin1.jpg
END:VEVENT
BEGIN:VEVENT
DTSTART;VALUE=DATE:20160614
DTEND;VALUE=DATE:20160618
DTSTAMP:20260423T213136
CREATED:20160521T185952Z
LAST-MODIFIED:20160829T082314Z
UID:997-1465862400-1466207999@processinglane.com
SUMMARY:The Latin American Summit | Cancun Mexico
DESCRIPTION:
URL:http://processinglane.com/event/mexico-cancun/
LOCATION:ME by Melia\, Boulevard Kukulkan\, km. 12\, Cancun\, 77500\, Mexico
CATEGORIES:affiliates,conference,merchant services,webmasters
ATTACH;FMTTYPE=image/jpeg:http://processinglane.com/wp-content/uploads/2015/02/LatinSummitBanner_ladies_final.jpg
END:VEVENT
BEGIN:VEVENT
DTSTART;VALUE=DATE:20160531
DTEND;VALUE=DATE:20160604
DTSTAMP:20260423T213136
CREATED:20160520T195202Z
LAST-MODIFIED:20160829T082345Z
UID:944-1464652800-1464998399@processinglane.com
SUMMARY:XBIZ | Miami
DESCRIPTION: 
URL:http://processinglane.com/event/xbiz-miami/
LOCATION:SLS Hotel\, 1701 Collins Avenue\, Miami Beach\, FL\, 33139\, United States
CATEGORIES:affiliates,conference,merchant services,webmasters
ATTACH;FMTTYPE=image/jpeg:http://processinglane.com/wp-content/uploads/2016/05/XBIZMiamiBanner1.jpg
END:VEVENT
END:VCALENDAR